BEGIN:VCALENDAR
VERSION:2.0
PRODID:icalendar-ruby
CALSCALE:GREGORIAN
BEGIN:VEVENT
DTSTAMP:20260419T204115Z
UID:a4cb03a1-08e7-4f1a-86db-ef35df831efb
DTSTART;TZID=Pacific/Auckland:20260419T140000
DTEND;TZID=Pacific/Auckland:20260419T143000
DESCRIPTION:Property ID# 606173
SUMMARY:Openhome for 39 Tanera Crescent
END:VEVENT
END:VCALENDAR
