BEGIN:VCALENDAR
VERSION:2.0
PRODID:icalendar-ruby
CALSCALE:GREGORIAN
BEGIN:VEVENT
DTSTAMP:20260420T072841Z
UID:b348f5e2-420c-45bc-8595-8d18a8ff7b62
DTSTART;TZID=Pacific/Auckland:20260419T133000
DTEND;TZID=Pacific/Auckland:20260419T140000
DESCRIPTION:Property ID# 599925
SUMMARY:Openhome for 23 Laura Avenue
END:VEVENT
END:VCALENDAR
