BEGIN:VCALENDAR
VERSION:2.0
PRODID:icalendar-ruby
CALSCALE:GREGORIAN
BEGIN:VEVENT
DTSTAMP:20260420T001508Z
UID:d3621366-556d-4022-ad57-0268cd59d2b1
DTSTART;TZID=Pacific/Auckland:20260419T133000
DTEND;TZID=Pacific/Auckland:20260419T140000
DESCRIPTION:Property ID# 605128
SUMMARY:Openhome for 4 Cobar Close
END:VEVENT
END:VCALENDAR
