BEGIN:VCALENDAR
VERSION:2.0
PRODID:icalendar-ruby
CALSCALE:GREGORIAN
BEGIN:VEVENT
DTSTAMP:20260420T001425Z
UID:99b3e4a6-6a86-4ba0-b55e-91e8083ed660
DTSTART;TZID=Pacific/Auckland:20260419T123000
DTEND;TZID=Pacific/Auckland:20260419T130000
DESCRIPTION:Property ID# 606481
SUMMARY:Openhome for 94 Endeavour Street
END:VEVENT
END:VCALENDAR
