BEGIN:VCALENDAR
VERSION:2.0
PRODID:icalendar-ruby
CALSCALE:GREGORIAN
BEGIN:VEVENT
DTSTAMP:20260420T002020Z
UID:740b72e5-9436-4450-8684-3d5293dc4531
DTSTART;TZID=Pacific/Auckland:20260419T113000
DTEND;TZID=Pacific/Auckland:20260419T120000
DESCRIPTION:Property ID# 604714
SUMMARY:Openhome for 7/74 Derwent Street
END:VEVENT
END:VCALENDAR
