BEGIN:VCALENDAR
VERSION:2.0
PRODID:icalendar-ruby
CALSCALE:GREGORIAN
BEGIN:VEVENT
DTSTAMP:20260420T002312Z
UID:40bc9bd0-1ae4-460a-8af6-9e001c59356a
DTSTART;VALUE=DATE:20260429
DESCRIPTION:Property ID# 606481\, Locatoin: Lowe & Co Realty 8 Kent Terrace
 \, Mount Victoria\, Time: 2:00PM
SUMMARY:Auction for 94 Endeavour Street
END:VEVENT
END:VCALENDAR
