BEGIN:VCALENDAR
VERSION:2.0
PRODID:icalendar-ruby
CALSCALE:GREGORIAN
BEGIN:VEVENT
DTSTAMP:20260420T001508Z
UID:92d44a5b-e409-4220-bcd9-64085aa36bae
DTSTART;VALUE=DATE:20260401
DESCRIPTION:Property ID# 605128\, Locatoin: Lowe & Co Realty 8 Kent Terrace
 \, Mount Victoria\, Time: 2:00PM
SUMMARY:Auction for 4 Cobar Close
END:VEVENT
END:VCALENDAR
