BEGIN:VCALENDAR
VERSION:2.0
PRODID:icalendar-ruby
CALSCALE:GREGORIAN
BEGIN:VEVENT
DTSTAMP:20260420T073031Z
UID:547b378b-e8ae-40b1-8aca-76d4f97351b7
DTSTART;VALUE=DATE:20260326
DESCRIPTION:Property ID# 604719\, Locatoin: 8 Kent Terrace\, Wellington\, T
 ime: 12:00PM
SUMMARY:Auction for 
END:VEVENT
END:VCALENDAR
