BEGIN:VCALENDAR
VERSION:2.0
PRODID:icalendar-ruby
CALSCALE:GREGORIAN
BEGIN:VEVENT
DTSTAMP:20260420T001358Z
UID:a3a9618a-bf91-49e7-b728-413dc5992a5f
DTSTART;VALUE=DATE:20260318
DESCRIPTION:Property ID# 603751\, Locatoin: Lowe & Co Realty\, 8 Kent Terra
 ce\, Mount Victoria\, Wellington\, Time: 2:00PM
SUMMARY:Auction for 
END:VEVENT
END:VCALENDAR
