BEGIN:VCALENDAR
VERSION:2.0
PRODID:icalendar-ruby
CALSCALE:GREGORIAN
BEGIN:VEVENT
DTSTAMP:20260420T001301Z
UID:fad616e1-e671-4013-b0dd-03e5ab6f4f3f
DTSTART;VALUE=DATE:20260218
DESCRIPTION:Property ID# 602509\, Locatoin: Lowe & Co Realty\, 8 Kent Terra
 ce\, Mount Victoria\, Time: 2:00PM
SUMMARY:Auction for 
END:VEVENT
END:VCALENDAR
