BEGIN:VCALENDAR
VERSION:2.0
PRODID:icalendar-ruby
CALSCALE:GREGORIAN
BEGIN:VEVENT
DTSTAMP:20260425T033529Z
UID:4ad455d4-1d80-4e89-b74b-60005c303c90
DTSTART;VALUE=DATE:20260212
DESCRIPTION:Property ID# 602356\, Locatoin: 8 Kent Terrace\, Wellington\, T
 ime: 12:00PM
SUMMARY:Auction for 
END:VEVENT
END:VCALENDAR
