BEGIN:VCALENDAR
VERSION:2.0
PRODID:icalendar-ruby
CALSCALE:GREGORIAN
BEGIN:VEVENT
DTSTAMP:20260420T001026Z
UID:d6efdd2c-6548-450d-ad93-dfbe9eefe72b
DTSTART;VALUE=DATE:20260204
DESCRIPTION:Property ID# 602238\, Locatoin: Lowe & Co Realty\, 8 Kent Terra
 ce\, Mount Victoria\, Time: 2:00PM
SUMMARY:Auction for 
END:VEVENT
END:VCALENDAR
