BEGIN:VCALENDAR
VERSION:2.0
PRODID:icalendar-ruby
CALSCALE:GREGORIAN
BEGIN:VEVENT
DTSTAMP:20260420T041959Z
UID:77923e99-0286-4f18-9991-ffb4433456c2
DTSTART;VALUE=DATE:20260128
DESCRIPTION:Property ID# 600741\, Locatoin: Lowe & Co Realty 8 Kent Terrace
 \, Mount Victoria\, Time: 2:00PM
SUMMARY:Auction for 
END:VEVENT
END:VCALENDAR
