BEGIN:VCALENDAR
VERSION:2.0
PRODID:icalendar-ruby
CALSCALE:GREGORIAN
BEGIN:VEVENT
DTSTAMP:20260420T002212Z
UID:02b0f398-7ffb-40a9-8a13-5579bc07c7b0
DTSTART;VALUE=DATE:20251203
DESCRIPTION:Property ID# 599923\, Locatoin: Ray White Kilbirnie ( 30 Bay Ro
 ad\, Kilbirnie\, Wellington) \, Time: 2:00PM
SUMMARY:Auction for 
END:VEVENT
END:VCALENDAR
