BEGIN:VCALENDAR
VERSION:2.0
PRODID:icalendar-ruby
CALSCALE:GREGORIAN
BEGIN:VEVENT
DTSTAMP:20260420T000700Z
UID:29fcb251-4317-4fb1-a5da-fc1aa9cb52b5
DTSTART;VALUE=DATE:20251119
DESCRIPTION:Property ID# 599259\, Locatoin: Ray White Kilbirnie ( 30 Bay Ro
 ad\, Kilbirnie\, Wellington) \, Time: 2:00PM
SUMMARY:Auction for 
END:VEVENT
END:VCALENDAR
