BEGIN:VCALENDAR
VERSION:2.0
PRODID:icalendar-ruby
CALSCALE:GREGORIAN
BEGIN:VEVENT
DTSTAMP:20260420T000612Z
UID:1fb7a22e-1058-47f7-b7fd-6c1d45d32939
DTSTART;VALUE=DATE:20251128
DESCRIPTION:Property ID# 599249\, Locatoin: Ray White Wellington City (Leve
 l 1/77 Thorndon Quay\, Piptea\, Wellington)\, Time: 11:00AM
SUMMARY:Auction for 
END:VEVENT
END:VCALENDAR
