BEGIN:VCALENDAR
VERSION:2.0
PRODID:icalendar-ruby
CALSCALE:GREGORIAN
BEGIN:VEVENT
DTSTAMP:20260419T204231Z
UID:cdf09acc-1e3f-448a-93fe-f8e71a3db49c
DTSTART;VALUE=DATE:20251024
DESCRIPTION:Property ID# 598086\, Locatoin: 8 Kent Terrace\, Wellington \, 
 Time: 12:00PM
SUMMARY:Auction for 
END:VEVENT
END:VCALENDAR
