BEGIN:VCALENDAR
VERSION:2.0
PRODID:icalendar-ruby
CALSCALE:GREGORIAN
BEGIN:VEVENT
DTSTAMP:20260420T000305Z
UID:9e5786d3-9787-4c17-9f83-bd4e4274012b
DTSTART;VALUE=DATE:20251008
DESCRIPTION:Property ID# 597154\, Locatoin: Ray White Kilbirnie ( 30 Bay Ro
 ad\, Kilbirnie\, Wellington) \, Time: 2:00PM
SUMMARY:Auction for 
END:VEVENT
END:VCALENDAR
