BEGIN:VCALENDAR
VERSION:2.0
PRODID:icalendar-ruby
CALSCALE:GREGORIAN
BEGIN:VEVENT
DTSTAMP:20260420T000305Z
UID:0651eb86-9b36-4d8e-99e6-58c04b550b5b
DTSTART;VALUE=DATE:20250917
DESCRIPTION:Property ID# 596270\, Locatoin: Ray White Kilbirnie\, 30 Bay Ro
 ad\, Kilbirnie\, Time: 2:00PM
SUMMARY:Auction for 
END:VEVENT
END:VCALENDAR
