BEGIN:VCALENDAR
VERSION:2.0
PRODID:icalendar-ruby
CALSCALE:GREGORIAN
BEGIN:VEVENT
DTSTAMP:20260420T034324Z
UID:d8d3a9be-5488-412b-bf6d-c4cadfe72089
DTSTART;VALUE=DATE:20250723
DESCRIPTION:Property ID# 594357\, Locatoin: Ray White Kilbirnie\, 30 Bay Ro
 ad\, Kilbirnie\, Wellington\, Time: 2:00PM
SUMMARY:Auction for 
END:VEVENT
END:VCALENDAR
