BEGIN:VCALENDAR
VERSION:2.0
PRODID:icalendar-ruby
CALSCALE:GREGORIAN
BEGIN:VEVENT
DTSTAMP:20260420T072618Z
UID:a8c0922b-c8e0-4072-b7c1-5ecb2979f105
DTSTART;VALUE=DATE:20250716
DESCRIPTION:Property ID# 593890\, Locatoin: 8 Kent Terrace\, Wellington\, T
 ime: 3:00PM
SUMMARY:Auction for 
END:VEVENT
END:VCALENDAR
