BEGIN:VCALENDAR
VERSION:2.0
PRODID:icalendar-ruby
CALSCALE:GREGORIAN
BEGIN:VEVENT
DTSTAMP:20260420T071521Z
UID:0e726ed4-4e8b-4345-9c04-36e23441670c
DTSTART;VALUE=DATE:20250612
DESCRIPTION:Property ID# 592802\, Locatoin: 8 Kent Terrace\, Wellington\, T
 ime: 12:00PM
SUMMARY:Auction for 
END:VEVENT
END:VCALENDAR
