BEGIN:VCALENDAR
VERSION:2.0
PRODID:icalendar-ruby
CALSCALE:GREGORIAN
BEGIN:VEVENT
DTSTAMP:20260425T034629Z
UID:994df700-e979-4800-998c-2fd1c6804efa
DTSTART;VALUE=DATE:20250515
DESCRIPTION:Property ID# 591972\, Locatoin: 8 Kent Terrace\, Wellington\, T
 ime: 12:00PM
SUMMARY:Auction for 
END:VEVENT
END:VCALENDAR
