BEGIN:VCALENDAR
VERSION:2.0
PRODID:icalendar-ruby
CALSCALE:GREGORIAN
BEGIN:VEVENT
DTSTAMP:20260420T071703Z
UID:a7efbe0e-4810-4e8f-942c-b9223257bb59
DTSTART;VALUE=DATE:20250409
DESCRIPTION:Property ID# 590187\, Locatoin: 8 Kent Terrace\, Wellington\, T
 ime: 4:00PM
SUMMARY:Auction for 
END:VEVENT
END:VCALENDAR
