BEGIN:VCALENDAR
VERSION:2.0
PRODID:icalendar-ruby
CALSCALE:GREGORIAN
BEGIN:VEVENT
DTSTAMP:20260419T204301Z
UID:34a550a3-2f78-4b97-bfca-0664e656257d
DTSTART;VALUE=DATE:20250403
DESCRIPTION:Property ID# 589752\, Locatoin: 8 Kent Terrace\, Wellington\, T
 ime: 12:00PM
SUMMARY:Auction for 
END:VEVENT
END:VCALENDAR
