BEGIN:VCALENDAR
VERSION:2.0
PRODID:icalendar-ruby
CALSCALE:GREGORIAN
BEGIN:VEVENT
DTSTAMP:20260419T170916Z
UID:14705462-19d2-4761-ba56-5ecc8e2adbbe
DTSTART;VALUE=DATE:20250327
DESCRIPTION:Property ID# 589359\, Locatoin: 8 Kent Terrace\, Wellington\, T
 ime: 12:00PM
SUMMARY:Auction for 
END:VEVENT
END:VCALENDAR
