BEGIN:VCALENDAR
VERSION:2.0
PRODID:icalendar-ruby
CALSCALE:GREGORIAN
BEGIN:VEVENT
DTSTAMP:20260420T002010Z
UID:18b75dd5-5c7e-4027-8f9b-02e2873ed833
DTSTART;VALUE=DATE:20250227
DESCRIPTION:Property ID# 587302\, Time: 12:00PM
SUMMARY:Auction for 
END:VEVENT
END:VCALENDAR
