BEGIN:VCALENDAR
VERSION:2.0
PRODID:icalendar-ruby
CALSCALE:GREGORIAN
BEGIN:VEVENT
DTSTAMP:20260420T040127Z
UID:07675b4f-c014-4d13-9d66-5856a32b7df1
DTSTART;VALUE=DATE:20241205
DESCRIPTION:Property ID# 584362\, Locatoin: 8 Kent Terrace\, Wellington\, T
 ime: 12:00PM
SUMMARY:Auction for 
END:VEVENT
END:VCALENDAR
