BEGIN:VCALENDAR
VERSION:2.0
PRODID:icalendar-ruby
CALSCALE:GREGORIAN
BEGIN:VEVENT
DTSTAMP:20260420T040608Z
UID:f404b872-0d98-4389-b9c5-43c00c6c3343
DTSTART;VALUE=DATE:20241128
DESCRIPTION:Property ID# 582600\, Locatoin: 8 Kent Terrace\, Wellington\, T
 ime: 3:00PM
SUMMARY:Auction for 
END:VEVENT
END:VCALENDAR
