BEGIN:VCALENDAR
VERSION:2.0
PRODID:icalendar-ruby
CALSCALE:GREGORIAN
BEGIN:VEVENT
DTSTAMP:20260420T035825Z
UID:0f72adf3-ad8e-4519-a841-db078e7ff276
DTSTART;VALUE=DATE:20240228
DESCRIPTION:Property ID# 569088\, Locatoin: 8 Kent Terrace\, Wellington\, T
 ime: 2:00PM
SUMMARY:Auction for 
END:VEVENT
END:VCALENDAR
