BEGIN:VCALENDAR
VERSION:2.0
PRODID:icalendar-ruby
CALSCALE:GREGORIAN
BEGIN:VEVENT
DTSTAMP:20260420T001605Z
UID:d1ccedc0-8ba8-4ab2-8f7e-8aa90bc806b5
DTSTART;VALUE=DATE:20231129
DESCRIPTION:Property ID# 565638\, Locatoin: Ray White Kilbirnie (30 Bay Roa
 d\, Kilbirnie\, Wellington) \, Time: 2:00PM
SUMMARY:Auction for 
END:VEVENT
END:VCALENDAR
