BEGIN:VCALENDAR
VERSION:2.0
PRODID:icalendar-ruby
CALSCALE:GREGORIAN
BEGIN:VEVENT
DTSTAMP:20260420T002130Z
UID:75782e8c-72c9-4207-9329-229e5fe332f7
DTSTART;VALUE=DATE:20231215
DESCRIPTION:Property ID# 565636\, Locatoin: Ray White Kilbirnie \, Time: 2:
 00PM
SUMMARY:Auction for 
END:VEVENT
END:VCALENDAR
