BEGIN:VCALENDAR
VERSION:2.0
PRODID:icalendar-ruby
CALSCALE:GREGORIAN
BEGIN:VEVENT
DTSTAMP:20260419T171626Z
UID:6bac3808-a5e1-40ab-81bb-7f811b864808
DTSTART;VALUE=DATE:20191218
DESCRIPTION:Property ID# 468775\, Locatoin: 21 Ganges Road\, Khandallah\, T
 ime: 12:00PM
SUMMARY:Auction for 
END:VEVENT
END:VCALENDAR
